BEGIN:VCALENDAR
VERSION:2.0
PRODID:-//wp-events-plugin.com//7.2.3.1//EN
TZID:Europe/Berlin
X-WR-TIMEZONE:Europe/Berlin
BEGIN:VEVENT
UID:11@herzfeuer-musik.de
DTSTART;TZID=Europe/Berlin:20250824T143000
DTEND;TZID=Europe/Berlin:20250824T143000
DTSTAMP:20250714T192805Z
URL:https://herzfeuer-musik.de/events/bartholomaemarkt-beimbach/
SUMMARY:Bartholomämarkt Beimbach
DESCRIPTION:
ATTACH;FMTTYPE=image/jpeg:https://herzfeuer-musik.de/wp-content/uploads/20
 25/07/C163382B-AEDF-464B-9A09-9571C3096815.jpg
LOCATION:Bartholomämarkt Beimbach\, Beimbach\, Rot am See\, 74585\, Deutsc
 hland
X-APPLE-STRUCTURED-LOCATION;VALUE=URI;X-ADDRESS=Beimbach\, Rot am See\, 745
 85\, Deutschland;X-APPLE-RADIUS=100;X-TITLE=Bartholomämarkt Beimbach:geo:
 0,0
END:VEVENT
BEGIN:VTIMEZONE
TZID:Europe/Berlin
X-LIC-LOCATION:Europe/Berlin
BEGIN:DAYLIGHT
DTSTART:20250330T030000
TZOFFSETFROM:+0100
TZOFFSETTO:+0200
TZNAME:CEST
END:DAYLIGHT
END:VTIMEZONE
END:VCALENDAR