BEGIN:VCALENDAR
VERSION:2.0
PRODID:-//wp-events-plugin.com//7.2.3.1//EN
TZID:Europe/Berlin
X-WR-TIMEZONE:Europe/Berlin
BEGIN:VEVENT
UID:9@herzfeuer-musik.de
DTSTART;TZID=Europe/Berlin:20250928T180000
DTEND;TZID=Europe/Berlin:20250928T180000
DTSTAMP:20250915T143403Z
URL:https://herzfeuer-musik.de/events/cd-praesentation-im-wiesenhof-in-itz
 elberg/
SUMMARY:Jubiläumsfeier "Wiesenhof" in Itzelberg
DESCRIPTION:
ATTACH;FMTTYPE=image/jpeg:https://herzfeuer-musik.de/wp-content/uploads/20
 25/07/PHOTO-2025-07-04-13-13-34.jpg
LOCATION:Wiesenhof\, Wäldlesäcker 1\, Königsbronn-Itzelberg\, 89551\, De
 utschland
X-APPLE-STRUCTURED-LOCATION;VALUE=URI;X-ADDRESS=Wäldlesäcker 1\, Königsb
 ronn-Itzelberg\, 89551\, Deutschland;X-APPLE-RADIUS=100;X-TITLE=Wiesenhof:
 geo:0,0
END:VEVENT
BEGIN:VTIMEZONE
TZID:Europe/Berlin
X-LIC-LOCATION:Europe/Berlin
BEGIN:DAYLIGHT
DTSTART:20250330T030000
TZOFFSETFROM:+0100
TZOFFSETTO:+0200
TZNAME:CEST
END:DAYLIGHT
END:VTIMEZONE
END:VCALENDAR