BEGIN:VCALENDAR
VERSION:2.0
PRODID:-//wp-events-plugin.com//7.2.3.1//EN
TZID:Europe/Berlin
X-WR-TIMEZONE:Europe/Berlin
BEGIN:VEVENT
UID:19@herzfeuer-musik.de
DTSTART;TZID=Europe/Berlin:20250927T190000
DTEND;TZID=Europe/Berlin:20250927T190000
DTSTAMP:20250714T135604Z
URL:https://herzfeuer-musik.de/events/gasthof-goldener-adler/
SUMMARY:Gasthof Goldener Adler
DESCRIPTION:
ATTACH;FMTTYPE=image/jpeg:https://herzfeuer-musik.de/wp-content/uploads/20
 25/07/Goldener-Adler-1-1.png
LOCATION:Goldener Adler Schwäbisch Hall\, Am Markt 11\, Schwäbisch Hall\,
  74523\, Deutschland
X-APPLE-STRUCTURED-LOCATION;VALUE=URI;X-ADDRESS=Am Markt 11\, Schwäbisch H
 all\, 74523\, Deutschland;X-APPLE-RADIUS=100;X-TITLE=Goldener Adler Schwä
 bisch Hall:geo:0,0
END:VEVENT
BEGIN:VTIMEZONE
TZID:Europe/Berlin
X-LIC-LOCATION:Europe/Berlin
BEGIN:DAYLIGHT
DTSTART:20250330T030000
TZOFFSETFROM:+0100
TZOFFSETTO:+0200
TZNAME:CEST
END:DAYLIGHT
END:VTIMEZONE
END:VCALENDAR