BEGIN:VCALENDAR
VERSION:2.0
PRODID:-//wp-events-plugin.com//7.2.3.1//EN
TZID:Europe/Berlin
X-WR-TIMEZONE:Europe/Berlin
BEGIN:VEVENT
UID:18@herzfeuer-musik.de
DTSTART;TZID=Europe/Berlin:20260919T183000
DTEND;TZID=Europe/Berlin:20260919T183000
DTSTAMP:20251214T203629Z
URL:https://herzfeuer-musik.de/events/herzfeuer-musiknacht-in-elchingen/
SUMMARY:HerzFeuer Musiknacht in Elchingen
DESCRIPTION:Herzfeuer live im Musikanten Stadel Elchingen\nErleben Sie eine
 n stimmungsvollen Abend mit ehrlichem Schlager\, bekannten Klängen und ei
 genen Liedern.\nGenießen Sie Musik zum Mitsingen\, Mitfühlen und Wohlfü
 hlen in gemütlicher Atmosphäre.\nWir freuen uns sehr\, Sie begrüßen zu
  dürfen.
ATTACH;FMTTYPE=image/jpeg:https://herzfeuer-musik.de/wp-content/uploads/20
 25/12/WhatsApp-Bild-2025-12-09-um-20.46.42_9fe32518.jpg
LOCATION:Musikantenstadel Elchingen\, Römerstraße\, 18\, Neresheim\, Bade
 n Würtemberg\, 73450\, Deutschland
X-APPLE-STRUCTURED-LOCATION;VALUE=URI;X-ADDRESS=Römerstraße\, 18\, Neresh
 eim\, Baden Würtemberg\, 73450\, Deutschland;X-APPLE-RADIUS=100;X-TITLE=M
 usikantenstadel Elchingen:geo:0,0
END:VEVENT
BEGIN:VTIMEZONE
TZID:Europe/Berlin
X-LIC-LOCATION:Europe/Berlin
BEGIN:DAYLIGHT
DTSTART:20260329T030000
TZOFFSETFROM:+0100
TZOFFSETTO:+0200
TZNAME:CEST
END:DAYLIGHT
END:VTIMEZONE
END:VCALENDAR