BEGIN:VCALENDAR
VERSION:2.0
PRODID:-//wp-events-plugin.com//7.2.3.1//EN
TZID:Europe/Berlin
X-WR-TIMEZONE:Europe/Berlin
BEGIN:VEVENT
UID:17@herzfeuer-musik.de
DTSTART;TZID=Europe/Berlin:20250718T150000
DTEND;TZID=Europe/Berlin:20250718T150000
DTSTAMP:20250713T194053Z
URL:https://herzfeuer-musik.de/events/live-bei-radio-u1-tirol-im-studio/
SUMMARY:Live bei Radio U1 Tirol im Studio
DESCRIPTION:Voraussichtlich ab 15: 00 Uhr sind wir Live bei Radio U1 Tirol 
 mit unserem neuen Albumtitel "Mach den Augenblick unendlich" zu hören....
 ....\n\n&nbsp\;\n\n
ATTACH;FMTTYPE=image/jpeg:https://herzfeuer-musik.de/wp-content/uploads/20
 25/07/IMG_5997.png
END:VEVENT
BEGIN:VTIMEZONE
TZID:Europe/Berlin
X-LIC-LOCATION:Europe/Berlin
BEGIN:DAYLIGHT
DTSTART:20250330T030000
TZOFFSETFROM:+0100
TZOFFSETTO:+0200
TZNAME:CEST
END:DAYLIGHT
END:VTIMEZONE
END:VCALENDAR