BEGIN:VCALENDAR
VERSION:2.0
PRODID:-//wp-events-plugin.com//7.2.3.1//EN
TZID:Europe/Berlin
X-WR-TIMEZONE:Europe/Berlin
BEGIN:VEVENT
UID:36@herzfeuer-musik.de
DTSTART;TZID=Europe/Berlin:20260509T203000
DTEND;TZID=Europe/Berlin:20260509T203000
DTSTAMP:20260114T132106Z
URL:https://herzfeuer-musik.de/events/night-of-the-bands/
SUMMARY:Night of the Bands
DESCRIPTION:
ATTACH;FMTTYPE=image/jpeg:https://herzfeuer-musik.de/wp-content/uploads/20
 25/07/PHOTO-2025-07-13-22-44-59.jpg
LOCATION:Night of the bands\, Horäffle\, Crailsheim\, Deutschland
X-APPLE-STRUCTURED-LOCATION;VALUE=URI;X-ADDRESS=Horäffle\, Crailsheim\, De
 utschland;X-APPLE-RADIUS=100;X-TITLE=Night of the bands:geo:0,0
END:VEVENT
BEGIN:VTIMEZONE
TZID:Europe/Berlin
X-LIC-LOCATION:Europe/Berlin
BEGIN:DAYLIGHT
DTSTART:20260329T030000
TZOFFSETFROM:+0100
TZOFFSETTO:+0200
TZNAME:CEST
END:DAYLIGHT
END:VTIMEZONE
END:VCALENDAR