BEGIN:VCALENDAR
VERSION:2.0
PRODID:-//wp-events-plugin.com//7.2.3.1//EN
TZID:Europe/Berlin
X-WR-TIMEZONE:Europe/Berlin
BEGIN:VEVENT
UID:31@herzfeuer-musik.de
DTSTART;TZID=Europe/Berlin:20260131T000000
DTEND;TZID=Europe/Berlin:20260131T000000
DTSTAMP:20251017T124259Z
URL:https://herzfeuer-musik.de/events/privatveranstaltung/
SUMMARY:Privatveranstaltung
DESCRIPTION:
ATTACH;FMTTYPE=image/jpeg:https://herzfeuer-musik.de/wp-content/uploads/20
 25/07/C163382B-AEDF-464B-9A09-9571C3096815.jpg
END:VEVENT
BEGIN:VTIMEZONE
TZID:Europe/Berlin
X-LIC-LOCATION:Europe/Berlin
BEGIN:STANDARD
DTSTART:20251026T020000
TZOFFSETFROM:+0200
TZOFFSETTO:+0100
TZNAME:CET
END:STANDARD
END:VTIMEZONE
END:VCALENDAR