BEGIN:VCALENDAR
VERSION:2.0
PRODID:-//wp-events-plugin.com//7.2.3.1//EN
TZID:Europe/Berlin
X-WR-TIMEZONE:Europe/Berlin
BEGIN:VEVENT
UID:22@herzfeuer-musik.de
DTSTART;TZID=Europe/Berlin:20250816T140000
DTEND;TZID=Europe/Berlin:20250816T140000
DTSTAMP:20250809T120705Z
URL:https://herzfeuer-musik.de/events/radiointerview-bei-radio-schwany/
SUMMARY:Radiointerview bei Radio Schwany
DESCRIPTION:[caption id="attachment_505" align="alignnone" width="300"] Scr
 eenshot[/caption]
ATTACH;FMTTYPE=image/jpeg:https://herzfeuer-musik.de/wp-content/uploads/20
 25/08/IMG_6777.jpg
END:VEVENT
BEGIN:VTIMEZONE
TZID:Europe/Berlin
X-LIC-LOCATION:Europe/Berlin
BEGIN:DAYLIGHT
DTSTART:20250330T030000
TZOFFSETFROM:+0100
TZOFFSETTO:+0200
TZNAME:CEST
END:DAYLIGHT
END:VTIMEZONE
END:VCALENDAR