BEGIN:VCALENDAR
VERSION:2.0
PRODID:-//wp-events-plugin.com//7.2.3.1//EN
TZID:Europe/Berlin
X-WR-TIMEZONE:Europe/Berlin
BEGIN:VEVENT
UID:14@herzfeuer-musik.de
DTSTART;TZID=Europe/Berlin:20260307T170000
DTEND;TZID=Europe/Berlin:20260307T170000
DTSTAMP:20250714T124118Z
URL:https://herzfeuer-musik.de/events/rieser-schlager-und-volksmusiknacht/
SUMMARY:Rieser Schlager und Volksmusiknacht
DESCRIPTION:
ATTACH;FMTTYPE=image/jpeg:https://herzfeuer-musik.de/wp-content/uploads/20
 25/07/PHOTO-2025-07-13-19-26-37-1.jpg
LOCATION:Rieser Schlager und Volksmusiknacht\, Wörnitzhalle\, Harburg\, 86
 655\, Deutschland
X-APPLE-STRUCTURED-LOCATION;VALUE=URI;X-ADDRESS=Wörnitzhalle\, Harburg\, 8
 6655\, Deutschland;X-APPLE-RADIUS=100;X-TITLE=Rieser Schlager und Volksmus
 iknacht:geo:0,0
END:VEVENT
BEGIN:VTIMEZONE
TZID:Europe/Berlin
X-LIC-LOCATION:Europe/Berlin
BEGIN:STANDARD
DTSTART:20251026T020000
TZOFFSETFROM:+0200
TZOFFSETTO:+0100
TZNAME:CET
END:STANDARD
END:VTIMEZONE
END:VCALENDAR