BEGIN:VCALENDAR
VERSION:2.0
PRODID:-//wp-events-plugin.com//7.2.3.1//EN
TZID:Europe/Berlin
X-WR-TIMEZONE:Europe/Berlin
BEGIN:VEVENT
UID:38@herzfeuer-musik.de
DTSTART;TZID=Europe/Berlin:20260711T190000
DTEND;TZID=Europe/Berlin:20260711T190000
DTSTAMP:20260303T181015Z
URL:https://herzfeuer-musik.de/events/schlagerparty/
SUMMARY:Schlagerparty
DESCRIPTION:
ATTACH;FMTTYPE=image/jpeg:https://herzfeuer-musik.de/wp-content/uploads/20
 26/03/Photoroom_20260223_212248.jpg
LOCATION:Schlagerparty\, Rosenstr.14\, Türkheim\, 86842\, Deutschland
X-APPLE-STRUCTURED-LOCATION;VALUE=URI;X-ADDRESS=Rosenstr.14\, Türkheim\, 8
 6842\, Deutschland;X-APPLE-RADIUS=100;X-TITLE=Schlagerparty:geo:0,0
END:VEVENT
BEGIN:VTIMEZONE
TZID:Europe/Berlin
X-LIC-LOCATION:Europe/Berlin
BEGIN:DAYLIGHT
DTSTART:20260329T030000
TZOFFSETFROM:+0100
TZOFFSETTO:+0200
TZNAME:CEST
END:DAYLIGHT
END:VTIMEZONE
END:VCALENDAR