BEGIN:VCALENDAR
VERSION:2.0
PRODID:-//wp-events-plugin.com//7.2.3.1//EN
TZID:Europe/Berlin
X-WR-TIMEZONE:Europe/Berlin
BEGIN:VEVENT
UID:24@herzfeuer-musik.de
DTSTART;TZID=Europe/Berlin:20251231T233000
DTEND;TZID=Europe/Berlin:20251231T233000
DTSTAMP:20250921T080331Z
URL:https://herzfeuer-musik.de/events/silvesterparty-im-hotel-roessl-in-ra
 bland-suedtirol/
SUMMARY:Silvesterparty im Hotel Rössl in Rabland (Südtirol)
DESCRIPTION:\n\nhttps://www.roessl.com/de
ATTACH;FMTTYPE=image/jpeg:https://herzfeuer-musik.de/wp-content/uploads/20
 25/09/Hotel-Roessl.jpg
LOCATION:Hotel Rössl Rabland\, Vinschgauerstr. 26\, Rabland \, 39020\, Ita
 lien
X-APPLE-STRUCTURED-LOCATION;VALUE=URI;X-ADDRESS=Vinschgauerstr. 26\, Rablan
 d \, 39020\, Italien;X-APPLE-RADIUS=100;X-TITLE=Hotel Rössl Rabland:geo:0
 ,0
END:VEVENT
BEGIN:VTIMEZONE
TZID:Europe/Berlin
X-LIC-LOCATION:Europe/Berlin
BEGIN:STANDARD
DTSTART:20251026T020000
TZOFFSETFROM:+0200
TZOFFSETTO:+0100
TZNAME:CET
END:STANDARD
END:VTIMEZONE
END:VCALENDAR