BEGIN:VCALENDAR
VERSION:2.0
PRODID:-//wp-events-plugin.com//7.2.3.1//EN
TZID:Europe/Berlin
X-WR-TIMEZONE:Europe/Berlin
BEGIN:VEVENT
UID:21@herzfeuer-musik.de
DTSTART;TZID=Europe/Berlin:20250809T190000
DTEND;TZID=Europe/Berlin:20250809T190000
DTSTAMP:20250806T184654Z
URL:https://herzfeuer-musik.de/events/sommerfest-sv-boelgental/
SUMMARY:Sommerfest SV Bölgental
DESCRIPTION:[caption id="attachment_502" align="alignnone" width="172"] Scr
 eenshot[/caption]
ATTACH;FMTTYPE=image/jpeg:https://herzfeuer-musik.de/wp-content/uploads/20
 25/08/IMG_6701.jpg
LOCATION:Schützenhaus SV Bölgental\, Bölgental 99\, Satteldorf\, 74589\,
  Deutschland
X-APPLE-STRUCTURED-LOCATION;VALUE=URI;X-ADDRESS=Bölgental 99\, Satteldorf\
 , 74589\, Deutschland;X-APPLE-RADIUS=100;X-TITLE=Schützenhaus SV Bölgent
 al:geo:0,0
END:VEVENT
BEGIN:VTIMEZONE
TZID:Europe/Berlin
X-LIC-LOCATION:Europe/Berlin
BEGIN:DAYLIGHT
DTSTART:20250330T030000
TZOFFSETFROM:+0100
TZOFFSETTO:+0200
TZNAME:CEST
END:DAYLIGHT
END:VTIMEZONE
END:VCALENDAR