BEGIN:VCALENDAR
VERSION:2.0
PRODID:-//wp-events-plugin.com//7.2.3.1//EN
TZID:Europe/Berlin
X-WR-TIMEZONE:Europe/Berlin
BEGIN:VEVENT
UID:20@herzfeuer-musik.de
DTSTART;TZID=Europe/Berlin:20250803T131500
DTEND;TZID=Europe/Berlin:20250803T140000
DTSTAMP:20250723T125249Z
URL:https://herzfeuer-musik.de/events/tag-der-offenen-tuer-neresheim/
SUMMARY:Tag der offenen Tür Neresheim
DESCRIPTION:
ATTACH;FMTTYPE=image/jpeg:https://herzfeuer-musik.de/wp-content/uploads/20
 25/07/PHOTO-2025-07-13-22-44-59.jpg
LOCATION:Tag der offenen Tür Rathaus Neresheim\, Hauptstr.20\, Neresheim\,
  Deutschland
X-APPLE-STRUCTURED-LOCATION;VALUE=URI;X-ADDRESS=Hauptstr.20\, Neresheim\, D
 eutschland;X-APPLE-RADIUS=100;X-TITLE=Tag der offenen Tür Rathaus Nereshe
 im:geo:0,0
END:VEVENT
BEGIN:VTIMEZONE
TZID:Europe/Berlin
X-LIC-LOCATION:Europe/Berlin
BEGIN:DAYLIGHT
DTSTART:20250330T030000
TZOFFSETFROM:+0100
TZOFFSETTO:+0200
TZNAME:CEST
END:DAYLIGHT
END:VTIMEZONE
END:VCALENDAR